BEGIN:VCALENDAR
VERSION:2.0
PRODID:-//eventon.com NONSGML v1.0//EN
CALSCALE:GREGORIAN
METHOD:PUBLISH
BEGIN:VEVENT
UID:69e73dde013ec
DTSTAMP:20260421T090534Z
DTSTART:20260404T142100Z
DTEND:20260404T142100Z
LOCATION:
SUMMARY:GrappLink - Bjj Gi Pro Event I ()
DESCRIPTION:GrappLink &#8211; Bjj Gi Pro Event I GrappLink &#8211; Bjj Gi E
 vent I è un evento serale di Brazilian Jiu-Jitsu in kimono con formula ad 
 eliminazione diretta e premi in denaro per i vincitori. Un format dinamico\
 ,  compatto e spettacolare\,  pensato per offrire match di qualità\,  atmo
 sfera da fight night[..]\nhttps://www.grappling-italia.com/events/grapplink
 -bjj-gi-pro-event-i
URL:https://www.grappling-italia.com/events/grapplink-bjj-gi-pro-event-i
END:VEVENT
END:VCALENDAR