BEGIN:VCALENDAR
VERSION:2.0
PRODID:-//eventon.com NONSGML v1.0//EN
CALSCALE:GREGORIAN
METHOD:PUBLISH
BEGIN:VEVENT
UID:69e704e5ec398
DTSTAMP:20260421T050229Z
DTSTART:20240818T055800Z
DTEND:20240818T055800Z
LOCATION:Champ-de-Mars Arena
SUMMARY:Olimpiadi Parigi 2024: Judo
DESCRIPTION:JUDO ALLE OLIMPIADI DI PARIGI 2024: IL CALENDARIO DELLE GARE 27
  LUGLIO: ore 10:00 -48 kg donne turni preliminari ore 10:00 -60 kg uomini t
 urni preliminari ore 16:00 -48 kg donne blocco finale MEDAGLIA ore 16:00 &#
 8211; 60 kg uomini blocco finale MEDAGLIA 28 LUGLIO: ore 10:00 -66 kg uomin
 i[..]\nhttps://www.grappling-italia.com/events/judo-olimpiadi-parigi-2024
URL:https://www.grappling-italia.com/events/judo-olimpiadi-parigi-2024
END:VEVENT
END:VCALENDAR