BEGIN:VCALENDAR
VERSION:2.0
PRODID:-//eventon.com NONSGML v1.0//EN
CALSCALE:GREGORIAN
METHOD:PUBLISH
BEGIN:VEVENT
UID:69e6e8c3b8f96
DTSTAMP:20260421T030227Z
DTSTART:20240816T083100Z
DTEND:20240817T083100Z
LOCATION:Thomas &amp; Mack Center
SUMMARY:Craig Jones Invitational
DESCRIPTION:Evento organizzato da Craig Jones con 1 milione di montepremi p
 er il vincitore. Card Craig Jones Invitational 2024 Partecipanti alla +80 K
 g William Tackett Luke Rockhold Nicky Rodriguez Mason Fowler Joao Gabriel R
 ocha Victor Hugo Owen Livesey Fellipe Andrew Max Gimenis Adam Bradley Inaci
 o Santos Pat Downey Pedro Alex Kyle[..]\nhttps://www.grappling-italia.com/e
 vents/craig-jones-invitational
URL:https://www.grappling-italia.com/events/craig-jones-invitational
END:VEVENT
END:VCALENDAR