BEGIN:VCALENDAR
VERSION:2.0
PRODID:-//eventon.com NONSGML v1.0//EN
CALSCALE:GREGORIAN
METHOD:PUBLISH
BEGIN:VEVENT
UID:69e7ddfb3c59b
DTSTAMP:20260421T202843Z
DTSTART:20210618
DTEND:20210619
LOCATION:
SUMMARY:Gamebred Fighting Championship 1
DESCRIPTION:Le MMA prima di essere chiamate cos&#8217; esistevano già\,  e
  si chiamavano valetudo / No-hold-barred. Jorge Masvidal\,  sull&#8217;onda
  del successo del pugilato a mani nude e del suo passato da strada\,  ci pr
 ova: Gamebred Fighting Championship 1 è il primo evento della sua promotio
 n di MMA a mani nude (Professional[..]\nhttps://www.grappling-italia.com/ev
 ents/gamebred-fighting-championship-1
URL:https://www.grappling-italia.com/events/gamebred-fighting-championship-1
END:VEVENT
END:VCALENDAR